BEGIN:VCALENDAR
METHOD:PUBLISH
PRODID:-//Weblication CMS
VERSION:2.0
BEGIN:VEVENT
SUMMARY:Multiprofessionelles Basismodul Palliative Care (40 Stunden)
DTSTART:20251110T090000
DTEND:20251110T163000
DESCRIPTION:Kurs-Nr: 25-102, alle Kurstage: 10.-14.11.25, 9-16:30 Uhr
LOCATION:Seminarräume Hospiz Bergstraße, Am Wambolterhof 3, 64625 Bensheim
UID:https://hospiz-bergstrasse.de/de/veranstaltungen/termine/25-102-Basiskurs-Palliative-Care-Kopie.php
URL:https://hospiz-bergstrasse.de/de/veranstaltungen/termine/25-102-Basiskurs-Palliative-Care-Kopie.php
END:VEVENT
END:VCALENDAR