BEGIN:VCALENDAR
METHOD:PUBLISH
PRODID:-//Weblication CMS
VERSION:2.0
BEGIN:VEVENT
SUMMARY:Trauerlandkarte für Kinder und Jugendliche - Theorie
DTSTART:20250517T093000
DTEND:20250517T160000
DESCRIPTION:Kurs-Nr: 25-212
LOCATION:Seminarräume Hospiz Bergstraße, Am Wambolterhof 3, 64625 Bensheim
UID:https://hospiz-bergstrasse.de/de/veranstaltungen/termine/25-212-Trauerlandkarte.php
URL:https://hospiz-bergstrasse.de/de/veranstaltungen/termine/25-212-Trauerlandkarte.php
END:VEVENT
END:VCALENDAR