BEGIN:VCALENDAR
METHOD:PUBLISH
PRODID:-//Weblication CMS
VERSION:2.0
BEGIN:VEVENT
SUMMARY:(Selbst-)fürsorglicher Umgang mit Sterben und Tod
DTSTART:20260224T090000
DTEND:20260225T163000
DESCRIPTION:Kurs-Nr: 26-201
LOCATION:Hospiz Bergstraße, Kalkgasse 13, Bensheim
UID:https://hospiz-bergstrasse.de/de/veranstaltungen/termine/26-201-Umgang-mit-Leben-und-Tod.php
URL:https://hospiz-bergstrasse.de/de/veranstaltungen/termine/26-201-Umgang-mit-Leben-und-Tod.php
END:VEVENT
END:VCALENDAR